BEGIN:VCALENDAR
VERSION:2.0
PRODID:-//https://kakteen.org/web///NONSGML kigkonsult.se iCalcreator 2.10.15//
METHOD:PUBLISH
BEGIN:VEVENT
UID:20260423T145948CEST-2168sNp3wR@https://kakteen.org/web/
DTSTAMP:20260423T125948Z
DESCRIPTION:HauptversammlungMit Nachtessen\, Tombola und Verteilung der Fle
 isspreise\nZurück zur Terminliste https://kakteen.org/web/index.php/termin
 e/event/121-hauptversammlung
DTSTART:20221209T190000Z
DTEND:20221209T220000Z
LOCATION:Restaurant Egghölzli (Weltpoststrasse 16\, 3015\, Bern)
SUMMARY:Hauptversammlung
URL:https://kakteen.org/web/index.php/termine/event/121-hauptversammlung
END:VEVENT
END:VCALENDAR
