BEGIN:VCALENDAR
VERSION:2.0
PRODID:-//https://kakteen.org/web///NONSGML kigkonsult.se iCalcreator 2.10.15//
METHOD:PUBLISH
BEGIN:VEVENT
UID:20260426T041135CEST-2255D9vmpu@https://kakteen.org/web/
DTSTAMP:20260426T021135Z
DESCRIPTION:«Botanische Pizza» vom Gardasee bis zum StiefelVortrag von Ralf
  Hillmann\nZurück zur Terminliste https://kakteen.org/web/index.php/termin
 e/event/253-botanische-pizza
DTSTART:20240912T193000Z
DTEND:20240912T220000Z
LOCATION:Hotel Sportcenter Fünf Dörfer (Oberauweg 186d\, 7205\, Zizers\, Gr
 aubünden)
SUMMARY:«Botanische Pizza» 
URL:https://kakteen.org/web/index.php/termine/event/253-botanische-pizza
END:VEVENT
END:VCALENDAR
