BEGIN:VCALENDAR
VERSION:2.0
PRODID:-//https://kakteen.org/web///NONSGML kigkonsult.se iCalcreator 2.10.15//
METHOD:PUBLISH
BEGIN:VEVENT
UID:20260423T180159CEST-1706koiO24@https://kakteen.org/web/
DTSTAMP:20260423T160159Z
DESCRIPTION:Namaqualand in BlüteVortrag von René Deubelbeiss\nZurück zur Te
 rminliste https://kakteen.org/web/index.php/termine/event/451-namaqualand-
 in-bluete
DTSTART:20261013T200000Z
DTEND:20261013T220000Z
LOCATION:Gasthaus Albisgütli (Uetlibergstrasse 341\, 8045\, Zürich)
SUMMARY:Namaqualand in Blüte
URL:https://kakteen.org/web/index.php/termine/event/451-namaqualand-in-blue
 te
END:VEVENT
END:VCALENDAR
