BEGIN:VCALENDAR
VERSION:2.0
PRODID:-//https://kakteen.org/web///NONSGML kigkonsult.se iCalcreator 2.10.15//
METHOD:PUBLISH
BEGIN:VEVENT
UID:20260419T143747CEST-17068gi5U6@https://kakteen.org/web/
DTSTAMP:20260419T123747Z
DESCRIPTION:Italien: Crassulaceen\, Orchideen und GeophytenVortrag von Ralf
  Hillmann\nZurück zur Terminliste https://kakteen.org/web/index.php/termin
 e/event/452-italien-crassulaceen-orchideen-und-geophyten
DTSTART:20261110T200000Z
DTEND:20261110T220000Z
LOCATION:Gasthaus Albisgütli (Uetlibergstrasse 341\, 8045\, Zürich)
SUMMARY:Italien: Crassulaceen\, Orchideen und Geophyten
URL:https://kakteen.org/web/index.php/termine/event/452-italien-crassulacee
 n-orchideen-und-geophyten
END:VEVENT
END:VCALENDAR
