BEGIN:VCALENDAR
VERSION:2.0
PRODID:-//https://kakteen.org/web///NONSGML kigkonsult.se iCalcreator 2.10.15//
METHOD:PUBLISH
BEGIN:VEVENT
UID:20260419T143035CEST-5729xwWLtb@https://kakteen.org/web/
DTSTAMP:20260419T123035Z
DESCRIPTION:Chlaushöck\nZurück zur Terminliste https://kakteen.org/web/inde
 x.php/termine/event/453-chlaushoeck
DTSTART:20261208T190000Z
DTEND:20261208T220000Z
LOCATION:Gasthaus Albisgütli (Uetlibergstrasse 341\, 8045\, Zürich)
SUMMARY:Chlaushöck
URL:https://kakteen.org/web/index.php/termine/event/453-chlaushoeck
END:VEVENT
END:VCALENDAR
