BEGIN:VCALENDAR
VERSION:2.0
PRODID:-//https://kakteen.org/web///NONSGML kigkonsult.se iCalcreator 2.10.15//
METHOD:PUBLISH
BEGIN:VEVENT
UID:20260423T175050CEST-2133rJMTiD@https://kakteen.org/web/
DTSTAMP:20260423T155050Z
DESCRIPTION:Sukkulentenfrühling im Telli Zentrum Aarau\nZurück zur Terminli
 ste https://kakteen.org/web/index.php/termine/event/454-skg-fruehlingstagu
 ng-aarau-telli
DTSTART:20260509T090000Z
DTEND:20260509T170000Z
LOCATION:Gemeinschaftszentrum Telli\, Aarau ()
SUMMARY:SKG-Frühlingstagung Aarau (Telli)
URL:https://kakteen.org/web/index.php/termine/event/454-skg-fruehlingstagun
 g-aarau-telli
END:VEVENT
END:VCALENDAR
