BEGIN:VCALENDAR
VERSION:2.0
PRODID:-//https://kakteen.org/web///NONSGML kigkonsult.se iCalcreator 2.10.15//
METHOD:PUBLISH
BEGIN:VEVENT
UID:20260423T175050CEST-2121w8oMbt@https://kakteen.org/web/
DTSTAMP:20260423T155050Z
DESCRIPTION:SKG Jahreshauptversammlung 2026\nZurück zur Terminliste https:/
 /kakteen.org/web/index.php/termine/event/455-skg-jahreshauptversammlung-jh
 v-2026
DTSTART:20260531T100000Z
DTEND:20260531T120000Z
LOCATION:gemäss Einladung ()
SUMMARY:SKG Jahreshauptversammlung (JHV) 2026
URL:https://kakteen.org/web/index.php/termine/event/455-skg-jahreshauptvers
 ammlung-jhv-2026
END:VEVENT
END:VCALENDAR
