BEGIN:VCALENDAR
VERSION:2.0
PRODID:-//https://kakteen.org/web///NONSGML kigkonsult.se iCalcreator 2.10.15//
METHOD:PUBLISH
BEGIN:VEVENT
UID:20260423T180023CEST-0366Je38pa@https://kakteen.org/web/
DTSTAMP:20260423T160023Z
DESCRIPTION:Vereinsreise gemäss separater Einladung\nZurück zur Terminliste
  https://kakteen.org/web/index.php/termine/event/474-vereinsreise
DTSTART;VALUE=DATE:20260621
LOCATION:gemäss Einladung ()
SUMMARY:Vereinsreise
URL:https://kakteen.org/web/index.php/termine/event/474-vereinsreise
END:VEVENT
END:VCALENDAR
