BEGIN:VCALENDAR
VERSION:2.0
PRODID:-//https://kakteen.org/web///NONSGML kigkonsult.se iCalcreator 2.10.15//
METHOD:PUBLISH
BEGIN:VEVENT
UID:20260423T180431CEST-0070ewvEH2@https://kakteen.org/web/
DTSTAMP:20260423T160431Z
DESCRIPTION:Von Copiapo nach La SerenaVortrag von René Deubelbeiss\nZurück 
 zur Terminliste https://kakteen.org/web/index.php/termine/event/475-von-co
 piapo-nach-la-serena
DTSTART:20260811T193000Z
DTEND:20260811T220000Z
LOCATION:Restaurant\, Pizzeria Frohsinn (Hinterhof 1\, 5412\, Gebenstorf\, 
 Aargau)
SUMMARY:Von Copiapo nach La Serena
URL:https://kakteen.org/web/index.php/termine/event/475-von-copiapo-nach-la
 -serena
END:VEVENT
END:VCALENDAR
