BEGIN:VCALENDAR
VERSION:2.0
PRODID:-//https://kakteen.org/web///NONSGML kigkonsult.se iCalcreator 2.10.15//
METHOD:PUBLISH
BEGIN:VEVENT
UID:20260423T180728CEST-73141hwzWP@https://kakteen.org/web/
DTSTAMP:20260423T160728Z
DESCRIPTION:Standort\, Vermehrung\, Kultur von Blossfeldia\, Strombocactus 
 und AztekiumVortrag von Daniel Labhart\nZurück zur Terminliste https://kak
 teen.org/web/index.php/termine/event/476-standort-vermehrung-kultur-von-bl
 ossfeldia-strombocactus-und-aztekium
DTSTART:20261013T193000Z
DTEND:20261013T220000Z
LOCATION:Restaurant\, Pizzeria Frohsinn (Hinterhof 1\, 5412\, Gebenstorf\, 
 Aargau)
SUMMARY:Standort\, Vermehrung\, Kultur von Blossfeldia\, Strombocactus und 
 Aztekium 
URL:https://kakteen.org/web/index.php/termine/event/476-standort-vermehrung
 -kultur-von-blossfeldia-strombocactus-und-aztekium
END:VEVENT
END:VCALENDAR
