BEGIN:VCALENDAR
VERSION:2.0
PRODID:-//https://kakteen.org/web///NONSGML kigkonsult.se iCalcreator 2.10.15//
METHOD:PUBLISH
BEGIN:VEVENT
UID:20260423T180605CEST-3762fKoKIV@https://kakteen.org/web/
DTSTAMP:20260423T160605Z
DESCRIPTION:Fauna und Flora in KolumbienVortrag von Chris Zimmerli\nZurück 
 zur Terminliste https://kakteen.org/web/index.php/termine/event/477-fauna-
 und-flora-in-kolumbien
DTSTART:20261110T193000Z
DTEND:20261110T220000Z
LOCATION:Restaurant\, Pizzeria Frohsinn (Hinterhof 1\, 5412\, Gebenstorf\, 
 Aargau)
SUMMARY:Fauna und Flora in Kolumbien
URL:https://kakteen.org/web/index.php/termine/event/477-fauna-und-flora-in-
 kolumbien
END:VEVENT
END:VCALENDAR
