BEGIN:VCALENDAR
VERSION:2.0
PRODID:-//https://kakteen.org/web///NONSGML kigkonsult.se iCalcreator 2.10.15//
METHOD:PUBLISH
BEGIN:VEVENT
UID:20260423T180159CEST-5571U0xV71@https://kakteen.org/web/
DTSTAMP:20260423T160159Z
DESCRIPTION:Generalversammlung mit vorangehendem Nachtesse\nZurück zur Term
 inliste https://kakteen.org/web/index.php/termine/event/478-generalversamm
 lung-mit-nachtessen
DTSTART:20270112T190000Z
DTEND:20270112T220000Z
LOCATION:Restaurant\, Pizzeria Frohsinn (Hinterhof 1\, 5412\, Gebenstorf\, 
 Aargau)
SUMMARY:Generalversammlung mit Nachtessen
URL:https://kakteen.org/web/index.php/termine/event/478-generalversammlung-
 mit-nachtessen
END:VEVENT
END:VCALENDAR
