BEGIN:VCALENDAR
VERSION:2.0
PRODID:-//https://kakteen.org/web///NONSGML kigkonsult.se iCalcreator 2.10.15//
METHOD:PUBLISH
BEGIN:VEVENT
UID:20260423T180512CEST-6957jT8XWK@https://kakteen.org/web/
DTSTAMP:20260423T160512Z
DESCRIPTION:Grillfest bei der RG St.Gallen\nZurück zur Terminliste https://
 kakteen.org/web/index.php/termine/event/482-grillfest-bei-der-rg-st-gallen
DTSTART:20260626T170000Z
DTEND:20260626T220000Z
LOCATION:Bot. Garten\, St.Gallen ()
SUMMARY:Grillfest bei der RG St.Gallen
URL:https://kakteen.org/web/index.php/termine/event/482-grillfest-bei-der-r
 g-st-gallen
END:VEVENT
END:VCALENDAR
