BEGIN:VCALENDAR
VERSION:2.0
PRODID:-//https://kakteen.org/web///NONSGML kigkonsult.se iCalcreator 2.10.15//
METHOD:PUBLISH
BEGIN:VEVENT
UID:20260423T180425CEST-4584zwkdvu@https://kakteen.org/web/
DTSTAMP:20260423T160425Z
DESCRIPTION:Spaziergang zur Waldschenke\nZurück zur Terminliste https://kak
 teen.org/web/index.php/termine/event/483-spaziergang-zur-waldschenke
DTSTART:20260807T183000Z
DTEND:20260807T220000Z
LOCATION:gemäss Einladung ()
SUMMARY:Spaziergang zur Waldschenke
URL:https://kakteen.org/web/index.php/termine/event/483-spaziergang-zur-wal
 dschenke
END:VEVENT
END:VCALENDAR
