BEGIN:VCALENDAR
VERSION:2.0
PRODID:-//https://kakteen.org/web///NONSGML kigkonsult.se iCalcreator 2.10.15//
METHOD:PUBLISH
BEGIN:VEVENT
UID:20260423T175911CEST-2978nWXLTJ@https://kakteen.org/web/
DTSTAMP:20260423T155911Z
DESCRIPTION:Death Valley - Fantastisches Tal des TodesVortrag von Marco Bor
 io\nZurück zur Terminliste https://kakteen.org/web/index.php/termine/event
 /484-death-valley
DTSTART:20260916T200000Z
DTEND:20260916T220000Z
LOCATION:Restaurant Freihof (Kradolfstrasse 41\, 8583\, Sulgen\, Thurgau)
SUMMARY:Death Valley
URL:https://kakteen.org/web/index.php/termine/event/484-death-valley
END:VEVENT
END:VCALENDAR
