BEGIN:VCALENDAR
VERSION:2.0
PRODID:-//https://kakteen.org/web///NONSGML kigkonsult.se iCalcreator 2.10.15//
METHOD:PUBLISH
BEGIN:VEVENT
UID:20260423T175815CEST-11951P4VvT@https://kakteen.org/web/
DTSTAMP:20260423T155815Z
DESCRIPTION:Vorschlag Jahresprogramm fürs 2027Resultate der Aussaat vom Feb
 ruar mit Etienne\nZurück zur Terminliste https://kakteen.org/web/index.php
 /termine/event/485-jahresprogramm
DTSTART:20261021T200000Z
DTEND:20261021T220000Z
LOCATION:Restaurant Freihof (Kradolfstrasse 41\, 8583\, Sulgen\, Thurgau)
SUMMARY:Jahresprogramm
URL:https://kakteen.org/web/index.php/termine/event/485-jahresprogramm
END:VEVENT
END:VCALENDAR
