BEGIN:VCALENDAR
VERSION:2.0
PRODID:-//https://kakteen.org/web///NONSGML kigkonsult.se iCalcreator 2.10.15//
METHOD:PUBLISH
BEGIN:VEVENT
UID:20260423T175815CEST-0410MLtm18@https://kakteen.org/web/
DTSTAMP:20260423T155815Z
DESCRIPTION:OmanVortrag von Ernst Sonderegger\nZurück zur Terminliste https
 ://kakteen.org/web/index.php/termine/event/486-oman
DTSTART:20261118T200000Z
DTEND:20261118T220000Z
LOCATION:Restaurant Freihof (Kradolfstrasse 41\, 8583\, Sulgen\, Thurgau)
SUMMARY:Oman
URL:https://kakteen.org/web/index.php/termine/event/486-oman
END:VEVENT
END:VCALENDAR
