BEGIN:VCALENDAR
VERSION:2.0
PRODID:-//https://kakteen.org/web///NONSGML kigkonsult.se iCalcreator 2.10.15//
METHOD:PUBLISH
BEGIN:VEVENT
UID:20260423T180154CEST-5622RMs14p@https://kakteen.org/web/
DTSTAMP:20260423T160154Z
DESCRIPTION:Klausabend mit Lotto\nZurück zur Terminliste https://kakteen.or
 g/web/index.php/termine/event/487-klausabend-mit-lotto
DTSTART:20261202T193000Z
DTEND:20261202T220000Z
LOCATION:Restaurant Freihof (Kradolfstrasse 41\, 8583\, Sulgen\, Thurgau)
SUMMARY:Klausabend mit Lotto
URL:https://kakteen.org/web/index.php/termine/event/487-klausabend-mit-lott
 o
END:VEVENT
END:VCALENDAR
