BEGIN:VCALENDAR
VERSION:2.0
PRODID:-//https://kakteen.org/web///NONSGML kigkonsult.se iCalcreator 2.10.15//
METHOD:PUBLISH
BEGIN:VEVENT
UID:20260423T175937CEST-6033zW8mBT@https://kakteen.org/web/
DTSTAMP:20260423T155937Z
DESCRIPTION:46. Generalversammlung\nZurück zur Terminliste https://kakteen.
 org/web/index.php/termine/event/488-46-generalversammlung
DTSTART:20270120T193000Z
DTEND:20270120T220000Z
LOCATION:Restaurant Freihof (Kradolfstrasse 41\, 8583\, Sulgen\, Thurgau)
SUMMARY:46. Generalversammlung
URL:https://kakteen.org/web/index.php/termine/event/488-46-generalversammlu
 ng
END:VEVENT
END:VCALENDAR
