BEGIN:VCALENDAR
VERSION:2.0
PRODID:-//https://kakteen.org/web///NONSGML kigkonsult.se iCalcreator 2.10.15//
METHOD:PUBLISH
BEGIN:VEVENT
UID:20260423T175954CEST-7555XeHUjc@https://kakteen.org/web/
DTSTAMP:20260423T155954Z
DESCRIPTION:Sammlungsbesichtigung gemäss spezieller Einladung\nZurück zur T
 erminliste https://kakteen.org/web/index.php/termine/event/506-sammlungsbe
 sichtigung
DTSTART;VALUE=DATE:20260516
LOCATION:gemäss Einladung ()
SUMMARY:Sammlungsbesichtigung
URL:https://kakteen.org/web/index.php/termine/event/506-sammlungsbesichtigu
 ng
END:VEVENT
END:VCALENDAR
