BEGIN:VCALENDAR
VERSION:2.0
PRODID:-//https://kakteen.org/web///NONSGML kigkonsult.se iCalcreator 2.10.15//
METHOD:PUBLISH
BEGIN:VEVENT
UID:20260423T175814CEST-7204vIkMzP@https://kakteen.org/web/
DTSTAMP:20260423T155814Z
DESCRIPTION:Höck in der Sukki\nZurück zur Terminliste https://kakteen.org/w
 eb/index.php/termine/event/528-hoeck
DTSTART:20260820T190000Z
DTEND:20260820T203000Z
LOCATION:Sukkulenten-Sammlung Zürich (Mythenquai 88\, 8002\, Zürich)
SUMMARY:Höck
URL:https://kakteen.org/web/index.php/termine/event/528-hoeck
END:VEVENT
END:VCALENDAR
