BEGIN:VCALENDAR
VERSION:2.0
PRODID:-//https://kakteen.org/web///NONSGML kigkonsult.se iCalcreator 2.10.15//
METHOD:PUBLISH
BEGIN:VEVENT
UID:20260423T175242CEST-6720hmB51U@https://kakteen.org/web/
DTSTAMP:20260423T155242Z
DESCRIPTION:Südafrika: West-Kap\, Flora und FaunaVortrag von Ralf Hillmann
 \nZurück zur Terminliste https://kakteen.org/web/index.php/termine/event/5
 32-suedafrika-west-kap-flora-und-fauna
DTSTART:20260518T193000Z
DTEND:20260518T220000Z
LOCATION:Restaurant Egghölzli (Weltpoststrasse 16\, 3015\, Bern)
SUMMARY:Südafrika: West-Kap\, Flora und Fauna
URL:https://kakteen.org/web/index.php/termine/event/532-suedafrika-west-kap
 -flora-und-fauna
END:VEVENT
END:VCALENDAR
