BEGIN:VCALENDAR
VERSION:2.0
PRODID:-//https://kakteen.org/web///NONSGML kigkonsult.se iCalcreator 2.10.15//
METHOD:PUBLISH
BEGIN:VEVENT
UID:20260423T175043CEST-2413dUNPMX@https://kakteen.org/web/
DTSTAMP:20260423T155043Z
DESCRIPTION:Madeira\, Sukkulenten und anderes Vortrag von Bruno Langens\nZu
 rück zur Terminliste https://kakteen.org/web/index.php/termine/event/533-m
 adeira-sukkulenten-und-anderes
DTSTART:20260615T193000Z
DTEND:20260615T220000Z
LOCATION:Restaurant Egghölzli (Weltpoststrasse 16\, 3015\, Bern)
SUMMARY:Madeira\, Sukkulenten und anderes 
URL:https://kakteen.org/web/index.php/termine/event/533-madeira-sukkulenten
 -und-anderes
END:VEVENT
END:VCALENDAR
