BEGIN:VCALENDAR
VERSION:2.0
PRODID:-//https://kakteen.org/web///NONSGML kigkonsult.se iCalcreator 2.10.15//
METHOD:PUBLISH
BEGIN:VEVENT
UID:20260423T175254CEST-5575wD96av@https://kakteen.org/web/
DTSTAMP:20260423T155254Z
DESCRIPTION:Echinocereen und Ferokakteen in MexikoVortrag von Jürg Keller\n
 Zurück zur Terminliste https://kakteen.org/web/index.php/termine/event/534
 -echinocereen-und-ferokakteen-in-mexiko
DTSTART:20260921T193000Z
DTEND:20260921T220000Z
LOCATION:Restaurant Egghölzli (Weltpoststrasse 16\, 3015\, Bern)
SUMMARY:Echinocereen und Ferokakteen in Mexiko
URL:https://kakteen.org/web/index.php/termine/event/534-echinocereen-und-fe
 rokakteen-in-mexiko
END:VEVENT
END:VCALENDAR
