BEGIN:VCALENDAR
VERSION:2.0
PRODID:-//https://kakteen.org/web///NONSGML kigkonsult.se iCalcreator 2.10.15//
METHOD:PUBLISH
BEGIN:VEVENT
UID:20260423T180647CEST-0801vcFTkA@https://kakteen.org/web/
DTSTAMP:20260423T160647Z
DESCRIPTION:Rückblick Vereinsreise an die Côte d’AzurVortrag von H.+W. Adam
 s + Teilnehmern\nZurück zur Terminliste https://kakteen.org/web/index.php/
 termine/event/535-rueckblick-vereinsreise-an-die-cote-dazur
DTSTART:20261019T193000Z
DTEND:20261019T220000Z
LOCATION:Restaurant Egghölzli (Weltpoststrasse 16\, 3015\, Bern)
SUMMARY:Rückblick Vereinsreise an die Côte d’Azur
URL:https://kakteen.org/web/index.php/termine/event/535-rueckblick-vereinsr
 eise-an-die-cote-dazur
END:VEVENT
END:VCALENDAR
