BEGIN:VCALENDAR
VERSION:2.0
PRODID:-//https://kakteen.org/web///NONSGML kigkonsult.se iCalcreator 2.10.15//
METHOD:PUBLISH
BEGIN:VEVENT
UID:20260423T174623CEST-7752Cow4UX@https://kakteen.org/web/
DTSTAMP:20260423T154623Z
DESCRIPTION:Rüsselkäfer und SukkulentenVortrag von Christoph Germann\nZurüc
 k zur Terminliste https://kakteen.org/web/index.php/termine/event/536-rues
 selkaefer-und-sukkulenten
DTSTART:20261116T193000Z
DTEND:20261116T220000Z
LOCATION:Restaurant Egghölzli (Weltpoststrasse 16\, 3015\, Bern)
SUMMARY:Rüsselkäfer und Sukkulenten
URL:https://kakteen.org/web/index.php/termine/event/536-ruesselkaefer-und-s
 ukkulenten
END:VEVENT
END:VCALENDAR
