BEGIN:VCALENDAR
VERSION:2.0
PRODID:-//https://kakteen.org/web///NONSGML kigkonsult.se iCalcreator 2.10.15//
METHOD:PUBLISH
BEGIN:VEVENT
UID:20260423T175955CEST-4721tIb8GC@https://kakteen.org/web/
DTSTAMP:20260423T155955Z
DESCRIPTION:Hauptversammlungmit Nachtessen\, Tombola und Verteilung der Fle
 isspreise \nZurück zur Terminliste https://kakteen.org/web/index.php/termi
 ne/event/537-hauptversammlung
DTSTART:20261116T193000Z
DTEND:20261116T220000Z
LOCATION:Restaurant Egghölzli (Weltpoststrasse 16\, 3015\, Bern)
SUMMARY:Hauptversammlung
URL:https://kakteen.org/web/index.php/termine/event/537-hauptversammlung
END:VEVENT
END:VCALENDAR
