BEGIN:VCALENDAR
VERSION:2.0
PRODID:-//https://kakteen.org/web///NONSGML kigkonsult.se iCalcreator 2.10.15//
METHOD:PUBLISH
BEGIN:VEVENT
UID:20260423T174129CEST-22817DzbZs@https://kakteen.org/web/
DTSTAMP:20260423T154129Z
DESCRIPTION:Monatsversammlung\nZurück zur Terminliste https://kakteen.org/w
 eb/index.php/termine/event/538-monatsversammlung
DTSTART:20270118T193000Z
DTEND:20270118T220000Z
LOCATION:Restaurant Egghölzli (Weltpoststrasse 16\, 3015\, Bern)
SUMMARY:Monatsversammlung
URL:https://kakteen.org/web/index.php/termine/event/538-monatsversammlung
END:VEVENT
END:VCALENDAR
