BEGIN:VCALENDAR
VERSION:2.0
PRODID:-//https://kakteen.org/web///NONSGML kigkonsult.se iCalcreator 2.10.15//
METHOD:PUBLISH
BEGIN:VEVENT
UID:20260423T175207CEST-5504aP8TiV@https://kakteen.org/web/
DTSTAMP:20260423T155207Z
DESCRIPTION:Tipps und Tricks beim FotografierenVortrag von Michael Stümpfig
 \nZurück zur Terminliste https://kakteen.org/web/index.php/termine/event/5
 39-tipps-und-tricks-beim-fotografieren
DTSTART:20270215T193000Z
DTEND:20270215T220000Z
LOCATION:Restaurant Egghölzli (Weltpoststrasse 16\, 3015\, Bern)
SUMMARY:Tipps und Tricks beim Fotografieren
URL:https://kakteen.org/web/index.php/termine/event/539-tipps-und-tricks-be
 im-fotografieren
END:VEVENT
END:VCALENDAR
