BEGIN:VCALENDAR
VERSION:2.0
PRODID:-//https://kakteen.org/web///NONSGML kigkonsult.se iCalcreator 2.10.15//
METHOD:PUBLISH
BEGIN:VEVENT
UID:20260423T175937CEST-2081iivN6x@https://kakteen.org/web/
DTSTAMP:20260423T155937Z
DESCRIPTION:Grillplausch im Käferberg\nZurück zur Terminliste https://kakte
 en.org/web/index.php/termine/event/540-grillplausch
DTSTART:20260822T120000Z
DTEND:20260822T160000Z
LOCATION:Pflegezentrum Käferberg (Emil-Klöti-Strasse 25\, 8037\, Zürich)
SUMMARY:Grillplausch
URL:https://kakteen.org/web/index.php/termine/event/540-grillplausch
END:VEVENT
END:VCALENDAR
