BEGIN:VCALENDAR
VERSION:2.0
PRODID:-//https://kakteen.org/web///NONSGML kigkonsult.se iCalcreator 2.10.15//
METHOD:PUBLISH
BEGIN:VEVENT
UID:20260423T180023CEST-3497dxlj4B@https://kakteen.org/web/
DTSTAMP:20260423T160023Z
DESCRIPTION:Sammlungsbesichtigung gemäss Einladung\nZurück zur Terminliste 
 https://kakteen.org/web/index.php/termine/event/541-sammlungsbesichtigung
DTSTART:20260718T100000Z
DTEND:20260718T150000Z
LOCATION:gemäss Einladung ()
SUMMARY:Sammlungsbesichtigung
URL:https://kakteen.org/web/index.php/termine/event/541-sammlungsbesichtigu
 ng
END:VEVENT
END:VCALENDAR
