BEGIN:VCALENDAR
VERSION:2.0
PRODID:-//https://kakteen.org/web///NONSGML kigkonsult.se iCalcreator 2.10.15//
METHOD:PUBLISH
BEGIN:VEVENT
UID:20260423T174912CEST-6270EsCW3o@https://kakteen.org/web/
DTSTAMP:20260423T154912Z
DESCRIPTION:RG-Bräteln gemäss Einladung\nZurück zur Terminliste https://kak
 teen.org/web/index.php/termine/event/542-rg-braeteln
DTSTART:20260816T100000Z
DTEND:20260816T160000Z
LOCATION:gemäss Einladung ()
SUMMARY:RG-Bräteln
URL:https://kakteen.org/web/index.php/termine/event/542-rg-braeteln
END:VEVENT
END:VCALENDAR
