BEGIN:VCALENDAR
VERSION:2.0
PRODID:-//https://kakteen.org/web///NONSGML kigkonsult.se iCalcreator 2.10.15//
METHOD:PUBLISH
BEGIN:VEVENT
UID:20260423T174033CEST-9809h045b7@https://kakteen.org/web/
DTSTAMP:20260423T154033Z
DESCRIPTION:Workshop - Tipps und Tricks mit Pflanzen\nmit Ralf Hillmann und
  Michael Stümpfig\nZurück zur Terminliste https://kakteen.org/web/index.ph
 p/termine/event/547-workshop
DTSTART:20260521T193000Z
DTEND:20260521T220000Z
LOCATION:Hotel Sportcenter Fünf Dörfer (Oberauweg 186d\, 7205\, Zizers\, Gr
 aubünden)
SUMMARY:Workshop
URL:https://kakteen.org/web/index.php/termine/event/547-workshop
END:VEVENT
END:VCALENDAR
