BEGIN:VCALENDAR
VERSION:2.0
PRODID:-//https://kakteen.org/web///NONSGML kigkonsult.se iCalcreator 2.10.15//
METHOD:PUBLISH
BEGIN:VEVENT
UID:20260423T191038CEST-2908H5UXX0@https://kakteen.org/web/
DTSTAMP:20260423T171038Z
DESCRIPTION:Südafrika\, 2. Teil OstkapVortrag von Ralf Hillmann\nZurück zur
  Terminliste https://kakteen.org/web/index.php/termine/event/548-suedafrik
 a-2-teil
DTSTART:20260611T193000Z
DTEND:20260611T220000Z
LOCATION:Hotel Sportcenter Fünf Dörfer (Oberauweg 186d\, 7205\, Zizers\, Gr
 aubünden)
SUMMARY:Südafrika\, 2. Teil
URL:https://kakteen.org/web/index.php/termine/event/548-suedafrika-2-teil
END:VEVENT
END:VCALENDAR
