BEGIN:VCALENDAR
VERSION:2.0
PRODID:-//https://kakteen.org/web///NONSGML kigkonsult.se iCalcreator 2.10.15//
METHOD:PUBLISH
BEGIN:VEVENT
UID:20260423T190219CEST-0799bAZomt@https://kakteen.org/web/
DTSTAMP:20260423T170219Z
DESCRIPTION:MammillariaVortrag von Marco Borio\nZurück zur Terminliste http
 s://kakteen.org/web/index.php/termine/event/551-mammillaria
DTSTART:20260910T193000Z
DTEND:20260910T220000Z
LOCATION:Hotel Sportcenter Fünf Dörfer (Oberauweg 186d\, 7205\, Zizers\, Gr
 aubünden)
SUMMARY:Mammillaria
URL:https://kakteen.org/web/index.php/termine/event/551-mammillaria
END:VEVENT
END:VCALENDAR
