BEGIN:VCALENDAR
VERSION:2.0
PRODID:-//https://kakteen.org/web///NONSGML kigkonsult.se iCalcreator 2.10.15//
METHOD:PUBLISH
BEGIN:VEVENT
UID:20260423T190452CEST-8450VmkUdC@https://kakteen.org/web/
DTSTAMP:20260423T170452Z
DESCRIPTION:BolivienVortrag von Ralf Hillmann\nZurück zur Terminliste https
 ://kakteen.org/web/index.php/termine/event/552-bolivien
DTSTART:20261008T193000Z
DTEND:20261008T220000Z
LOCATION:Hotel Sportcenter Fünf Dörfer (Oberauweg 186d\, 7205\, Zizers\, Gr
 aubünden)
SUMMARY:Bolivien
URL:https://kakteen.org/web/index.php/termine/event/552-bolivien
END:VEVENT
END:VCALENDAR
