BEGIN:VCALENDAR
VERSION:2.0
PRODID:-//https://kakteen.org/web///NONSGML kigkonsult.se iCalcreator 2.10.15//
METHOD:PUBLISH
BEGIN:VEVENT
UID:20260423T192511CEST-89979JVVWH@https://kakteen.org/web/
DTSTAMP:20260423T172511Z
DESCRIPTION:Aus dem «Nähkästli» der Bündner Kakteen Freundewo stehen meine 
 Pflanzen\nZurück zur Terminliste https://kakteen.org/web/index.php/termine
 /event/553-aus-dem-naehkaestli-der-buendner-kakteen-freunde
DTSTART:20261112T193000Z
DTEND:20261112T220000Z
LOCATION:Hotel Sportcenter Fünf Dörfer (Oberauweg 186d\, 7205\, Zizers\, Gr
 aubünden)
SUMMARY:Aus dem «Nähkästli» der Bündner Kakteen Freunde
URL:https://kakteen.org/web/index.php/termine/event/553-aus-dem-naehkaestli
 -der-buendner-kakteen-freunde
END:VEVENT
END:VCALENDAR
