BEGIN:VCALENDAR
VERSION:2.0
PRODID:-//https://kakteen.org/web///NONSGML kigkonsult.se iCalcreator 2.10.15//
METHOD:PUBLISH
BEGIN:VEVENT
UID:20260423T190824CEST-5501ZGeUuC@https://kakteen.org/web/
DTSTAMP:20260423T170824Z
DESCRIPTION:Klaushock\nZurück zur Terminliste https://kakteen.org/web/index
 .php/termine/event/554-klaushock
DTSTART:20261210T193000Z
DTEND:20261210T220000Z
LOCATION:Hotel Sportcenter Fünf Dörfer (Oberauweg 186d\, 7205\, Zizers\, Gr
 aubünden)
SUMMARY:Klaushock
URL:https://kakteen.org/web/index.php/termine/event/554-klaushock
END:VEVENT
END:VCALENDAR
