BEGIN:VCALENDAR
VERSION:2.0
PRODID:-//https://kakteen.org/web///NONSGML kigkonsult.se iCalcreator 2.10.15//
METHOD:PUBLISH
BEGIN:VEVENT
UID:20260423T191027CEST-4074cjOzgh@https://kakteen.org/web/
DTSTAMP:20260423T171027Z
DESCRIPTION:Filmli und Sammlungen\nZurück zur Terminliste https://kakteen.o
 rg/web/index.php/termine/event/555-filmli-und-sammlungen
DTSTART:20270114T193000Z
DTEND:20270114T220000Z
LOCATION:Hotel Sportcenter Fünf Dörfer (Oberauweg 186d\, 7205\, Zizers\, Gr
 aubünden)
SUMMARY:Filmli und Sammlungen
URL:https://kakteen.org/web/index.php/termine/event/555-filmli-und-sammlung
 en
END:VEVENT
END:VCALENDAR
