BEGIN:VCALENDAR
VERSION:2.0
PRODID:-//https://kakteen.org/web///NONSGML kigkonsult.se iCalcreator 2.10.15//
METHOD:PUBLISH
BEGIN:VEVENT
UID:20260423T174236CEST-2318SUMusM@https://kakteen.org/web/
DTSTAMP:20260423T154236Z
DESCRIPTION:Sammlungsbesichtigung bei Andi Häberlingemäss Einladung\nZurück
  zur Terminliste https://kakteen.org/web/index.php/termine/event/560-samml
 ungsbesichtigung
DTSTART;VALUE=DATE:20260517
LOCATION:gemäss Einladung ()
SUMMARY:Sammlungsbesichtigung
URL:https://kakteen.org/web/index.php/termine/event/560-sammlungsbesichtigu
 ng
END:VEVENT
END:VCALENDAR
