BEGIN:VCALENDAR
VERSION:2.0
PRODID:-//https://kakteen.org/web///NONSGML kigkonsult.se iCalcreator 2.10.15//
METHOD:PUBLISH
BEGIN:VEVENT
UID:20260423T174215CEST-1843Rm7vB2@https://kakteen.org/web/
DTSTAMP:20260423T154215Z
DESCRIPTION:Ariokarpen Vortrag\nZurück zur Terminliste https://kakteen.org/
 web/index.php/termine/event/561-ariokarpen
DTSTART:20260608T193000Z
DTEND:20260608T220000Z
LOCATION:Restaurant Bahnhof Beringen (Wiesengasse\, 8222\, Beringen\, Schaf
 fhausen)
SUMMARY:Ariokarpen
URL:https://kakteen.org/web/index.php/termine/event/561-ariokarpen
END:VEVENT
END:VCALENDAR
