BEGIN:VCALENDAR
VERSION:2.0
PRODID:-//https://kakteen.org/web///NONSGML kigkonsult.se iCalcreator 2.10.15//
METHOD:PUBLISH
BEGIN:VEVENT
UID:20260423T192209CEST-0536ou5Lhl@https://kakteen.org/web/
DTSTAMP:20260423T172209Z
DESCRIPTION:Wettbewerbspflanzen - Abend bei Roger Milker\nZurück zur Termin
 liste https://kakteen.org/web/index.php/termine/event/562-wettbewerbspflan
 zen
DTSTART:20260810T180000Z
DTEND:20260810T220000Z
LOCATION:gemäss Einladung ()
SUMMARY:Wettbewerbspflanzen
URL:https://kakteen.org/web/index.php/termine/event/562-wettbewerbspflanzen
END:VEVENT
END:VCALENDAR
