BEGIN:VCALENDAR
VERSION:2.0
PRODID:-//https://kakteen.org/web///NONSGML kigkonsult.se iCalcreator 2.10.15//
METHOD:PUBLISH
BEGIN:VEVENT
UID:20260423T190932CEST-1483kvASpJ@https://kakteen.org/web/
DTSTAMP:20260423T170932Z
DESCRIPTION:MammillariaVortrag von Roger Milker\nZurück zur Terminliste htt
 ps://kakteen.org/web/index.php/termine/event/563-mammillaria
DTSTART:20260914T193000Z
DTEND:20260914T220000Z
LOCATION:gemäss Einladung ()
SUMMARY:Mammillaria
URL:https://kakteen.org/web/index.php/termine/event/563-mammillaria
END:VEVENT
END:VCALENDAR
