BEGIN:VCALENDAR
VERSION:2.0
PRODID:-//https://kakteen.org/web///NONSGML kigkonsult.se iCalcreator 2.10.15//
METHOD:PUBLISH
BEGIN:VEVENT
UID:20260423T191119CEST-8188mpdjcA@https://kakteen.org/web/
DTSTAMP:20260423T171119Z
DESCRIPTION:Südwesten der USAVortrag von René Deubelbeiss\nZurück zur Termi
 nliste https://kakteen.org/web/index.php/termine/event/564-suedwesten-der-
 usa
DTSTART:20261014T193000Z
DTEND:20261014T220000Z
LOCATION:gemäss Einladung ()
SUMMARY:Südwesten der USA
URL:https://kakteen.org/web/index.php/termine/event/564-suedwesten-der-usa
END:VEVENT
END:VCALENDAR
