BEGIN:VCALENDAR
VERSION:2.0
PRODID:-//https://kakteen.org/web///NONSGML kigkonsult.se iCalcreator 2.10.15//
METHOD:PUBLISH
BEGIN:VEVENT
UID:20260423T190219CEST-5273MwCAFD@https://kakteen.org/web/
DTSTAMP:20260423T170219Z
DESCRIPTION:Generalversammlungmit anschliessendem Nachtessen\nZurück zur Te
 rminliste https://kakteen.org/web/index.php/termine/event/565-generalversa
 mmlung
DTSTART:20261109T190000Z
DTEND:20261109T220000Z
LOCATION:gemäss Einladung ()
SUMMARY:Generalversammlung
URL:https://kakteen.org/web/index.php/termine/event/565-generalversammlung
END:VEVENT
END:VCALENDAR
