BEGIN:VCALENDAR
VERSION:2.0
PRODID:-//https://kakteen.org/web///NONSGML kigkonsult.se iCalcreator 2.10.15//
METHOD:PUBLISH
BEGIN:VEVENT
UID:20260419T164301CEST-7427fVE17c@https://kakteen.org/web/
DTSTAMP:20260419T144301Z
DESCRIPTION:41. Hauptversammlung\nZurück zur Terminliste https://kakteen.or
 g/web/index.php/termine/event/576-41-hauptversammlung
DTSTART:20270118T200000Z
DTEND:20270118T220000Z
LOCATION:Park Hotel Wangs (Bahnhofstrasse 31\, 7323\, Vilters-Wangs\, St. G
 allen)
SUMMARY:41. Hauptversammlung
URL:https://kakteen.org/web/index.php/termine/event/576-41-hauptversammlung
END:VEVENT
END:VCALENDAR
