BEGIN:VCALENDAR
VERSION:2.0
PRODID:-//https://kakteen.org/web///NONSGML kigkonsult.se iCalcreator 2.10.15//
METHOD:PUBLISH
BEGIN:VEVENT
UID:20260423T174419CEST-0230wLcez0@https://kakteen.org/web/
DTSTAMP:20260423T154419Z
DESCRIPTION:Abenteuer Paraguay – Vom Atlantischen Regenwald zum Gran ChacoV
 ortrag von Christian Hefti\nZurück zur Terminliste https://kakteen.org/web
 /index.php/termine/event/578-abenteuer-paraguay
DTSTART:20260505T193000Z
DTEND:20260505T220000Z
LOCATION:Restaurant Hard (Rheinfelderstrasse 58\, 4127\, Birsfelden\, Basel
 -Landschaft)
SUMMARY: Abenteuer Paraguay
URL:https://kakteen.org/web/index.php/termine/event/578-abenteuer-paraguay
END:VEVENT
END:VCALENDAR
